BEGIN:VCALENDAR
VERSION:2.0
PRODID:-//ChamberMaster//Event Calendar 2.0//EN
METHOD:PUBLISH
X-PUBLISHED-TTL:P3D
REFRESH-INTERVAL:P3D
CALSCALE:GREGORIAN
BEGIN:VEVENT
DTSTART:20230125T220000Z
DTEND:20230126T010000Z
X-MICROSOFT-CDO-ALLDAYEVENT:FALSE
SUMMARY:Acoustic Jam Music
DESCRIPTION:Join us for Music!\n\nBring your own instrument\, voice or listening ears for a night of informal fun.
X-ALT-DESC;FMTTYPE=text/html:Join us for Music!<br />\nBring your own instrument\, voice or listening ears for a night of informal fun.
LOCATION:Hastings Public Library
UID:e.1901.4677
SEQUENCE:3
DTSTAMP:20260420T161449Z
URL:http://business.mibarry.com/events/details/acoustic-jam-music-01-25-2023-4677
END:VEVENT

END:VCALENDAR
