BEGIN:VCALENDAR
VERSION:2.0
PRODID:-//ChamberMaster//Event Calendar 2.0//EN
METHOD:PUBLISH
X-PUBLISHED-TTL:P3D
REFRESH-INTERVAL:P3D
CALSCALE:GREGORIAN
BEGIN:VEVENT
DTSTART;VALUE=DATE:20200426
DTEND;VALUE=DATE:20200502
TRANSP:TRANSPARENT
X-MICROSOFT-CDO-ALLDAYEVENT:TRUE
SUMMARY:COA Presents Biltmore Estate & Ashville\, NC
DESCRIPTION:The Barry County Commission on Aging Presents a 6 day/5 night bus trip to Biltmore Estate & Ashville\, NC trip. Trip includes:\n\n	Motorcoach transportation\n	5 nights lodging including 3 consecutive nights in Ashville\n	8 meals: 5 breakfasts & 3 dinners\n	Guided tour of Ashville\, NC\n	Full day visit to the Biltmore Estate\n	Guided drive along the Blue Ridge Parkway\n	Visit to the famous Folk Art Center\n	Visit to the Blue Ridge Parkway Visitor Center\n	Plus much more
X-ALT-DESC;FMTTYPE=text/html:The Barry County Commission on Aging Presents a 6 day/5 night bus trip to Biltmore Estate &amp\; Ashville\, NC trip. Trip includes:\n<ul>\n	<li>Motorcoach transportation</li>\n	<li>5 nights lodging including 3 consecutive nights in Ashville</li>\n	<li>8 meals: 5 breakfasts &amp\; 3 dinners</li>\n	<li>Guided tour of Ashville\, NC</li>\n	<li>Full day visit to the Biltmore Estate</li>\n	<li>Guided drive along the Blue Ridge Parkway</li>\n	<li>Visit to the famous Folk Art Center</li>\n	<li>Visit to the Blue Ridge Parkway Visitor Center</li>\n	<li>Plus much more</li>\n</ul>\n
LOCATION:Departure: Barry County Commission on Aging 320 W. Woodlawn Ave. Hastings\, MI
UID:e.1901.2342
SEQUENCE:3
DTSTAMP:20260424T144334Z
URL:http://business.mibarry.com/events/details/coa-presents-biltmore-estate-ashville-nc-2342
END:VEVENT

END:VCALENDAR
