BEGIN:VCALENDAR
VERSION:2.0
PRODID:-//ChamberMaster//Event Calendar 2.0//EN
METHOD:PUBLISH
X-PUBLISHED-TTL:P3D
REFRESH-INTERVAL:P3D
CALSCALE:GREGORIAN
BEGIN:VEVENT
DTSTART:20240504T140000Z
DTEND:20240504T160000Z
X-MICROSOFT-CDO-ALLDAYEVENT:FALSE
SUMMARY:Healthy Kids Day
DESCRIPTION:Find Your Joy\, Find Your Y at Healthy Kids Day!\n\nThe YMCA of Barry County is hosting Healthy Kids Day  on May 4th from 10:00 AM to 12:00 PM\, located at Camp Algonquin. This FREE event features a variety of family-friendly activities to encourage healthy kids\, healthy families\, and a healthy start to the summer season.\n\nIn celebration of this annual kick-off to summer\, we are sharing five activities we encourage you to introduce to your kids. The goal is to have them try something new by promoting a variety of opportunities to get involved in active play. Hopefully\, this will inspire a lifetime love of physical and mental activity!\n\nActivities:\n\nClimbing Tower\, GaGa Ball\, Field Games\, Healthy Snacks\, Target Sports\, and More!
X-ALT-DESC;FMTTYPE=text/html:<p style="text-align: center\;"><strong>Find Your Joy\, Find Your Y at Healthy Kids Day!</strong></p>\n\n<p>The YMCA of Barry County is hosting Healthy Kids Day&reg\; on May 4th from 10:00 AM to 12:00 PM\, located at Camp Algonquin. This FREE event features a variety of family-friendly activities to encourage healthy kids\, healthy families\, and a healthy start to the summer season.</p>\n\n<p>In celebration of this annual kick-off to summer\, we are sharing five activities we encourage you to introduce to your kids. The goal is to have them try something new by promoting a variety of opportunities to get involved in active play. Hopefully\, this will inspire a lifetime love of physical and mental activity!</p>\n\n<p><strong>Activities:</strong></p>\n\n<p>Climbing Tower\, GaGa Ball\, Field Games\, Healthy Snacks\,&nbsp\;Target Sports\, and More!</p>\n
LOCATION:YMCA of Barry County: 2055 Iroquois Trail Hastings\, MI 49058
UID:e.1901.4995
SEQUENCE:3
DTSTAMP:20260424T181037Z
URL:http://business.mibarry.com/events/details/healthy-kids-day-4995
END:VEVENT

END:VCALENDAR
