BEGIN:VCALENDAR
VERSION:2.0
PRODID:-//ChamberMaster//Event Calendar 2.0//EN
METHOD:PUBLISH
X-PUBLISHED-TTL:P3D
REFRESH-INTERVAL:P3D
CALSCALE:GREGORIAN
BEGIN:VEVENT
DTSTART:20220512T213000Z
DTEND:20220512T233000Z
X-MICROSOFT-CDO-ALLDAYEVENT:FALSE
SUMMARY:"Off the Clock" Business After Hours & Grand Re-opening Celebration
DESCRIPTION:Join us for the first "Off the Clock" Business After Hours of 2022 and help us celebrate our Grand Re-Opening with a ribbon cutting to kick things off!\n\n\n\nBeverages\, including wine and beer\, will be provided along with light refreshments.  Attendees will enjoy networking\, a game\, and the opportunity to win door prizes. \n\n\n\nPlease RSVP so that we can plan accordingly for food and beverages.  Cost to attend is $10.\n\n\n\nParking: please park behind the Chamber\, in the Huntington Bank parking lot or in City Lot 4 (located behind Miller Real Estate) or City Lot 5 (located behind the GQT Theater). Click HERE for City of Hastings parking map. \n\n\n\nProudly sponsored by the BCCEDA.
X-ALT-DESC;FMTTYPE=text/html:Join us for the first &quot\;Off the Clock&quot\; Business After Hours of 2022 and help us celebrate our Grand Re-Opening with a ribbon cutting to kick things off!<br />\n<br />\nBeverages\, including wine and beer\, will be provided along with light refreshments.&nbsp\; Attendees will enjoy networking\, a game\, and the opportunity to win door prizes.&nbsp\;<br />\n<br />\nPlease RSVP so that we can plan accordingly for food and beverages.&nbsp\; Cost to attend is $10.<br />\n<br />\nParking: please park behind the Chamber\, in the Huntington Bank parking lot or in City Lot 4 (located behind Miller Real Estate) or City Lot 5 (located behind the GQT Theater). Click <strong><a href="https://hastingsmi.org/parking-map/">HERE</a></strong> for City of Hastings parking map.&nbsp\;<br />\n<br />\nProudly sponsored by the BCCEDA.<br />\n&nbsp\;
LOCATION:Barry County Chamber & Economic Development Alliance 221 W. State Street Hastings 49058
UID:e.1901.4467
SEQUENCE:3
DTSTAMP:20260419T130214Z
URL:http://business.mibarry.com/events/details/off-the-clock-business-after-hours-grand-re-opening-celebration-4467
END:VEVENT

END:VCALENDAR
