BEGIN:VCALENDAR
VERSION:2.0
PRODID:-//ChamberMaster//Event Calendar 2.0//EN
METHOD:PUBLISH
X-PUBLISHED-TTL:P3D
REFRESH-INTERVAL:P3D
CALSCALE:GREGORIAN
BEGIN:VEVENT
DTSTART:20190920T160000Z
DTEND:20190920T163000Z
X-MICROSOFT-CDO-ALLDAYEVENT:FALSE
SUMMARY:Ribbon Cutting - The Mix
DESCRIPTION:Join us for a ribbon cutting celebrating the move of The Mix to their new location on South Jefferson. Check out their new location\, say Hi to Sharon and shop their Grand Opening Sale!
X-ALT-DESC;FMTTYPE=text/html:Join us for a ribbon cutting celebrating the move of The Mix to their new location on South Jefferson. Check out their new location\, say Hi to Sharon and shop their Grand Opening Sale!
LOCATION:309 S. Jefferson St. Hastings\, MI 49058
UID:e.1901.2317
SEQUENCE:3
DTSTAMP:20260420T021813Z
URL:http://business.mibarry.com/events/details/ribbon-cutting-the-mix-2317
END:VEVENT

END:VCALENDAR
