BEGIN:VCALENDAR
VERSION:2.0
PRODID:-//ChamberMaster//Event Calendar 2.0//EN
METHOD:PUBLISH
X-PUBLISHED-TTL:P3D
REFRESH-INTERVAL:P3D
CALSCALE:GREGORIAN
BEGIN:VEVENT
DTSTART:20240923T190000Z
DTEND:20240923T193000Z
X-MICROSOFT-CDO-ALLDAYEVENT:FALSE
SUMMARY:Small Business Association of Michigan: Small Business Briefing series
DESCRIPTION:The Small Business Briefing airs Mondays at 3pm  ET.  Watch to get the latest news from SBAM's Brian Calley and Sarah Miller\, along with special guests!\n\n\nWatch live on Facebook or register HERE to join via Zoom.
X-ALT-DESC;FMTTYPE=text/html:<h1>The Small Business Briefing airs Mondays at 3pm&nbsp\; ET.&nbsp\; Watch to get the latest news from SBAM&#39\;s Brian Calley and Sarah Miller\, along with special guests!</h1>\n<br />\nWatch live on<strong> <a href="https://www.facebook.com/SmallBusinessAssociationofMichigan/">Facebook</a></strong> or register <strong><a href="https://sbam-org.zoom.us/webinar/register/WN_MO77b3hqRe6oALbik6qmEw#/registration">HERE</a></strong> to join via Zoom.
LOCATION:Virtual\, via Facebook or Zoom
UID:e.1901.5022
SEQUENCE:3
DTSTAMP:20260424T233056Z
URL:http://business.mibarry.com/events/details/small-business-association-of-michigan-small-business-briefing-series-09-23-2024-5022
END:VEVENT

END:VCALENDAR
