BEGIN:VCALENDAR
VERSION:2.0
PRODID:-//ChamberMaster//Event Calendar 2.0//EN
METHOD:PUBLISH
X-PUBLISHED-TTL:P3D
REFRESH-INTERVAL:P3D
CALSCALE:GREGORIAN
BEGIN:VEVENT
DTSTART:20260501T213000Z
DTEND:20260502T013000Z
X-MICROSOFT-CDO-ALLDAYEVENT:FALSE
SUMMARY:12th Annual Evening to Change a Child's Story
DESCRIPTION:Join us for a semi-formal evening inspired by possibility\, purpose\, and the belief that every child's story can change. This year's theme\, "Adventure Awaits: Write the Next Chapter\," celebrates how CASA supports children in foster care as they navigate new paths and discover what's possible when a caring adult steps in.\n\n\n\nThe evening will begin with a social hour featuring photography\, education opportunities\, a cash bar\, and a silent auction. Our program will include a plated meal\, shared stories\, live auction\, and entertainment each moment highlighting the power of advocacy to help children turn the page toward brighter futures. In the spirit of our theme\, guests are encouraged to dress in adventure-inspired attire or semi-formal wear. We look forward to an unforgettable evening of storytelling\, impact\, and hope\, and invite you to join us as we help children write their next chapter.\n\n\n\nTickets include a plated meal and access to the in-person event. The event will be live-streamed online with free access during the program on the evening of the event.\n\n\n\nCASA for Kids\, Inc. is a local 501c3 advocating for children experiencing the child welfare or foster care system in Barry\, Eaton\, and Ingham Counties. We believe all children deserve their voices heard and an opportunity to thrive while finding the magic within!
X-ALT-DESC;FMTTYPE=text/html:Join us for a semi-formal evening inspired by possibility\, purpose\, and the belief that every child&rsquo\;s story can change. This year&rsquo\;s theme\, &ldquo\;Adventure Awaits: Write the Next Chapter\,&rdquo\; celebrates how CASA supports children in foster care as they navigate new paths and discover what&rsquo\;s possible when a caring adult steps in.<br />\n<br />\nThe evening will begin with a social hour featuring photography\, education opportunities\, a cash bar\, and a silent auction. Our program will include a plated meal\, shared stories\, live auction\, and entertainment&mdash\;each moment highlighting the power of advocacy to help children turn the page toward brighter futures. In the spirit of our theme\, guests are encouraged to dress in adventure-inspired attire or semi-formal wear. We look forward to an unforgettable evening of storytelling\, impact\, and hope\, and invite you to join us as we help children write their next chapter.<br />\n<br />\nTickets include a plated meal and access to the in-person event. The event will be live-streamed online with free access during the program on the evening of the event.<br />\n<br />\nCASA for Kids\, Inc. is a local 501c3 advocating for children experiencing the child welfare or foster care system in Barry\, Eaton\, and Ingham Counties. We believe all children deserve their voices heard and an opportunity to thrive while finding the magic within!
LOCATION:Eagle Eye Golf & Banquet Center: 15500 Chandler Rd Bath Twp\, MI 48808
UID:e.1901.5479
SEQUENCE:3
DTSTAMP:20260419T230151Z
URL:https://business.mibarry.com/events/details/12th-annual-evening-to-change-a-child-s-story-5479
END:VEVENT

END:VCALENDAR
