BEGIN:VCALENDAR
VERSION:2.0
PRODID:-//ChamberMaster//Event Calendar 2.0//EN
METHOD:PUBLISH
X-PUBLISHED-TTL:P3D
REFRESH-INTERVAL:P3D
CALSCALE:GREGORIAN
BEGIN:VEVENT
DTSTART:20240605T213000Z
DTEND:20240605T233000Z
X-MICROSOFT-CDO-ALLDAYEVENT:FALSE
SUMMARY:BCCEDA Small Business Boot Camp Workshop series
DESCRIPTION:Transforming Your Business Idea into a Thriving Enterprise\n\nThe Nine Questions You Must Answer Clearly for Your Business to Thrive\n\nJoin us for the second of our four-part  Small Business Boot Camp Series!\n\n\n\nThis free workshop series will provide prospective and new small business owners with the tools they need to thrive. \n\n\n\nThis workshop will kick-off with introductions from Stephens Insight Group (Josh Stephens & Jeremiah Keeler)\, who will share their experiences owning a business\, followed by an in-depth workshop led by our expert presenter. Light refreshments will be provided.  \n\n\n\nThe second workshop will be led by Ed Szumowski\, Certified Mentor - Grand Rapids SCORE.\n\nWho should attend?\n\nAnyone that has decided to start a business or existing business owners who want to improve their business.\n\nWhat will you learn?\n\n\n	How to identify your business's value proposition\n	How to create and use a Business Model Canvas to plan for business success\n	Putting it all together to write your business plan
X-ALT-DESC;FMTTYPE=text/html:<h2>Transforming Your Business Idea into a Thriving Enterprise</h2>\n\n<h3><em>The Nine Questions You Must Answer Clearly for Your Business to Thrive</em></h3>\n\n<p>Join us for the second of our four-part&nbsp\; Small Business Boot Camp Series!<br />\n<br />\nThis free workshop series will provide prospective and new small business owners with the tools they need to thrive.&nbsp\;<br />\n<br />\nThis workshop will kick-off with introductions from Stephens Insight Group (Josh Stephens &amp\; Jeremiah Keeler)\, who will share their experiences owning a business\, followed by an in-depth workshop led by our expert presenter. Light refreshments will be provided.&nbsp\;&nbsp\;<br />\n<br />\n<em>The second workshop will be led by Ed Szumowski\, Certified Mentor - Grand Rapids SCORE.</em></p>\n\n<h1>Who should attend?</h1>\n\n<p>Anyone that has decided to start a business or existing business owners who want to improve their business.</p>\n\n<h1>What will you learn?</h1>\n\n<ol>\n	<li>How to identify your business&#39\;s value proposition</li>\n	<li>How to create and use a Business Model Canvas to plan for business success</li>\n	<li>Putting it all together to write your business plan</li>\n</ol>\n
LOCATION:Hastings Public Library Upstairs Community Room 227 E. State Street Hastings 49058
UID:e.1901.5037
SEQUENCE:3
DTSTAMP:20260422T174704Z
URL:https://business.mibarry.com/events/details/bcceda-small-business-boot-camp-workshop-series-5037
END:VEVENT

END:VCALENDAR
