BEGIN:VCALENDAR
VERSION:2.0
PRODID:-//ChamberMaster//Event Calendar 2.0//EN
METHOD:PUBLISH
X-PUBLISHED-TTL:P3D
REFRESH-INTERVAL:P3D
CALSCALE:GREGORIAN
BEGIN:VEVENT
DTSTART:20250427T170000Z
DTEND:20250427T200000Z
X-MICROSOFT-CDO-ALLDAYEVENT:FALSE
SUMMARY:Family Fun Day (Free)
DESCRIPTION:This free event introduces your family and friends to the amazing experiences at Wesley Woods Camp. Enjoy archery\, games\, arts and crafts\, BBQ picnic\, tours. Meet the staff\, make a s'more by the campfire\, and explore the camp.
X-ALT-DESC;FMTTYPE=text/html:This free event introduces your family and friends to the amazing experiences at Wesley Woods Camp. Enjoy archery\, games\, arts and crafts\, BBQ picnic\, tours. Meet the staff\, make a s&#39\;more by the campfire\, and explore the camp.
LOCATION:Wesley Woods Camp & Retreat\, 1700 Clear Lake\, Dowling\, MI 49050
UID:e.1901.5165
SEQUENCE:3
DTSTAMP:20260424T154805Z
URL:https://business.mibarry.com/events/details/family-fun-day-free-5165
END:VEVENT

END:VCALENDAR
