BEGIN:VCALENDAR
VERSION:2.0
PRODID:-//ChamberMaster//Event Calendar 2.0//EN
METHOD:PUBLISH
X-PUBLISHED-TTL:P3D
REFRESH-INTERVAL:P3D
CALSCALE:GREGORIAN
BEGIN:VEVENT
DTSTART:20260518T133000Z
DTEND:20260518T150000Z
X-MICROSOFT-CDO-ALLDAYEVENT:FALSE
SUMMARY:Moo-Ville Sparkles A Monthly Event 3rd Mondays at 9:30 am
DESCRIPTION:Open to the public bring a friend. Light Refreshments Provided. A Mary Kay themed presentation every month. Cash & Carry available - RSVP's encouraged please call 269-317-2197
X-ALT-DESC;FMTTYPE=text/html:Open to the public bring a friend. Light Refreshments Provided. A Mary Kay themed presentation every month. Cash &amp\; Carry available - RSVP&#39\;s encouraged please call 269-317-2197
LOCATION:Moo-Ville 5875 S M-66 Highway Nashville\, Michigan 49073
UID:e.1901.5611
SEQUENCE:3
DTSTAMP:20260419T230119Z
URL:https://business.mibarry.com/events/details/moo-ville-sparkles-a-monthly-event-3rd-mondays-at-9-30-am-05-18-2026-5611
END:VEVENT

END:VCALENDAR
