BEGIN:VCALENDAR
VERSION:2.0
PRODID:-//ChamberMaster//Event Calendar 2.0//EN
METHOD:PUBLISH
X-PUBLISHED-TTL:P3D
REFRESH-INTERVAL:P3D
CALSCALE:GREGORIAN
BEGIN:VEVENT
DTSTART:20260616T180000Z
DTEND:20260616T193000Z
X-MICROSOFT-CDO-ALLDAYEVENT:FALSE
SUMMARY:Seasonal Sparkles
DESCRIPTION:Seasonal Grille\, Seasonal Sparkles is a mini Mary Kay clinic with a small presentation & some "Cash & Carry" products\, open to the public\, bring a friend\, light refreshments provided\, different theme & promotion monthly RSVP to Colleen at 269-317-2197\, walk-in's welcome.  Fellowship & socializing encouraged.\n\n\n\nAsk me about the schedule & locations of other monthly sparkle events in and around Barry County
X-ALT-DESC;FMTTYPE=text/html:Seasonal Grille\, Seasonal Sparkles is a mini Mary Kay clinic with a small presentation &amp\; some &quot\;Cash &amp\; Carry&quot\; products\, open to the public\, bring a friend\, light refreshments provided\, different theme &amp\; promotion monthly RSVP to Colleen at <a href="tel:269-317-2197">269-317-2197</a>\, walk-in&#39\;s welcome. &nbsp\;Fellowship &amp\; socializing encouraged.<br />\n<br />\nAsk me about the schedule &amp\; locations of other monthly sparkle events in and around Barry County
LOCATION:Seasonal Grille 150 West State Street Hastings\, MI 49058 Front Room
UID:e.1901.5871
SEQUENCE:3
DTSTAMP:20260420T073320Z
URL:https://business.mibarry.com/events/details/seasonal-sparkles-06-16-2026-5871
END:VEVENT

END:VCALENDAR
